BEGIN:VCALENDAR
PRODID:-//Calendar export
VERSION:2.0
X-WR-TIMEZONE:Etc/GMT
BEGIN:VTIMEZONE
TZID:GMT Standard Time
BEGIN:STANDARD
TZOFFSETFROM:+0000
TZOFFSETTO:+0000
END:STANDARD
END:VTIMEZONE
BEGIN:VEVENT
UID:AE105
DTSTAMP:20260422T231700Z
SUMMARY:Primestock Sale & Store Cattle
CLASS:PUBLIC
DESCRIPTION:
STATUS:CONFIRMED
PRIORITY:1
DTSTART:20230118T080000Z
DTEND:20230119T075900Z
TRANSP:OPAQUE
END:VEVENT
END:VCALENDAR
