BEGIN:VCALENDAR
PRODID:-//Calendar export
VERSION:2.0
X-WR-TIMEZONE:Etc/GMT
BEGIN:VTIMEZONE
TZID:GMT Standard Time
BEGIN:STANDARD
TZOFFSETFROM:+0000
TZOFFSETTO:+0000
END:STANDARD
END:VTIMEZONE
BEGIN:VEVENT
UID:AE145
DTSTAMP:20260424T224800Z
SUMMARY:Primestock Sale & Store Cattle
CLASS:PUBLIC
DESCRIPTION:
STATUS:CONFIRMED
PRIORITY:1
DTSTART:20231011T070000Z
DTEND:20231012T065900Z
TRANSP:OPAQUE
END:VEVENT
END:VCALENDAR
